BEGIN:VCALENDAR
VERSION:2.0
PRODID:-//brad rabuchin - ECPv6.15.13//NONSGML v1.0//EN
CALSCALE:GREGORIAN
METHOD:PUBLISH
X-WR-CALNAME:brad rabuchin
X-ORIGINAL-URL:https://bradrabuchin.net
X-WR-CALDESC:Events for brad rabuchin
REFRESH-INTERVAL;VALUE=DURATION:PT1H
X-Robots-Tag:noindex
X-PUBLISHED-TTL:PT1H
BEGIN:VTIMEZONE
TZID:America/Los_Angeles
BEGIN:DAYLIGHT
TZOFFSETFROM:-0800
TZOFFSETTO:-0700
TZNAME:PDT
DTSTART:20250309T100000
END:DAYLIGHT
BEGIN:STANDARD
TZOFFSETFROM:-0700
TZOFFSETTO:-0800
TZNAME:PST
DTSTART:20251102T090000
END:STANDARD
BEGIN:DAYLIGHT
TZOFFSETFROM:-0800
TZOFFSETTO:-0700
TZNAME:PDT
DTSTART:20260308T100000
END:DAYLIGHT
BEGIN:STANDARD
TZOFFSETFROM:-0700
TZOFFSETTO:-0800
TZNAME:PST
DTSTART:20261101T090000
END:STANDARD
BEGIN:DAYLIGHT
TZOFFSETFROM:-0800
TZOFFSETTO:-0700
TZNAME:PDT
DTSTART:20270314T100000
END:DAYLIGHT
BEGIN:STANDARD
TZOFFSETFROM:-0700
TZOFFSETTO:-0800
TZNAME:PST
DTSTART:20271107T090000
END:STANDARD
END:VTIMEZONE
BEGIN:VEVENT
DTSTART;TZID=America/Los_Angeles:20260306T190000
DTEND;TZID=America/Los_Angeles:20260306T213000
DTSTAMP:20260420T124632
CREATED:20260224T092323Z
LAST-MODIFIED:20260224T092324Z
UID:976-1772823600-1772832600@bradrabuchin.net
SUMMARY:Dennis Mitcheltree Quarter w/ Brad Rabuchin
DESCRIPTION:Dennis Mitcheltree-tenor sax and compositions\, Brad Rabuchin-guitar\, John Graves-bass\, & Marc van Aken-drums
URL:https://bradrabuchin.net/event/dennis-mitcheltree-quarter-w-brad-rabuchin-2/
LOCATION:Industry Cafe & Jazz\, 6039 Washington Blvd\, Culover City\, California\, 90232\, United States
END:VEVENT
BEGIN:VEVENT
DTSTART;TZID=America/Los_Angeles:20260313T150000
DTEND;TZID=America/Los_Angeles:20260316T210000
DTSTAMP:20260420T124632
CREATED:20251201T110547Z
LAST-MODIFIED:20251201T110548Z
UID:913-1773414000-1773694800@bradrabuchin.net
SUMMARY:Central Coast Jazz Guitar Fest
DESCRIPTION:A Very Cool 3 day hang and celebration of all things Jazz Guitar. I will be one of the featured performers and Clinicians. A great event for Jazz guitar players and fans of all levels. Concerts\, clinics\, jams\, guitar builders\, amps erc…
URL:https://bradrabuchin.net/event/central-coast-jazz-guitar-fest/
LOCATION:Santa Ynez Valley Marriott\, 555 McMurray Road\, Buellton\, California\, 93427\, United States
END:VEVENT
BEGIN:VEVENT
DTSTART;TZID=America/Los_Angeles:20260330T200000
DTEND;TZID=America/Los_Angeles:20260330T220000
DTSTAMP:20260420T124632
CREATED:20260224T091322Z
LAST-MODIFIED:20260224T091425Z
UID:972-1774900800-1774908000@bradrabuchin.net
SUMMARY:Rabuchin/Fukushima/Blondel-Unintended Consequences
DESCRIPTION:Brad Rabuchin-guitar\, electric sitar and effects\, Gary Fukushima-organ and effects\, Chris Blondal-drums and sounds. We continue our monthly residency at Sun Space. exploring opened ended compositions and collective Improvisation in a multi media environment. all ages
URL:https://bradrabuchin.net/event/rabuchin-fukushima-blondel-unintended-consequences/
LOCATION:Sun Space\, 9683 Sunland Blvd\, Shadow Hills\, CA\, 91040\, United States
END:VEVENT
END:VCALENDAR