BEGIN:VCALENDAR
VERSION:2.0
PRODID:-//brad rabuchin - ECPv6.15.13//NONSGML v1.0//EN
CALSCALE:GREGORIAN
METHOD:PUBLISH
X-WR-CALNAME:brad rabuchin
X-ORIGINAL-URL:https://bradrabuchin.net
X-WR-CALDESC:Events for brad rabuchin
REFRESH-INTERVAL;VALUE=DURATION:PT1H
X-Robots-Tag:noindex
X-PUBLISHED-TTL:PT1H
BEGIN:VTIMEZONE
TZID:America/Los_Angeles
BEGIN:DAYLIGHT
TZOFFSETFROM:-0800
TZOFFSETTO:-0700
TZNAME:PDT
DTSTART:20240310T100000
END:DAYLIGHT
BEGIN:STANDARD
TZOFFSETFROM:-0700
TZOFFSETTO:-0800
TZNAME:PST
DTSTART:20241103T090000
END:STANDARD
BEGIN:DAYLIGHT
TZOFFSETFROM:-0800
TZOFFSETTO:-0700
TZNAME:PDT
DTSTART:20250309T100000
END:DAYLIGHT
BEGIN:STANDARD
TZOFFSETFROM:-0700
TZOFFSETTO:-0800
TZNAME:PST
DTSTART:20251102T090000
END:STANDARD
BEGIN:DAYLIGHT
TZOFFSETFROM:-0800
TZOFFSETTO:-0700
TZNAME:PDT
DTSTART:20260308T100000
END:DAYLIGHT
BEGIN:STANDARD
TZOFFSETFROM:-0700
TZOFFSETTO:-0800
TZNAME:PST
DTSTART:20261101T090000
END:STANDARD
BEGIN:DAYLIGHT
TZOFFSETFROM:-0800
TZOFFSETTO:-0700
TZNAME:PDT
DTSTART:20270314T100000
END:DAYLIGHT
BEGIN:STANDARD
TZOFFSETFROM:-0700
TZOFFSETTO:-0800
TZNAME:PST
DTSTART:20271107T090000
END:STANDARD
END:VTIMEZONE
BEGIN:VEVENT
DTSTART;TZID=America/Los_Angeles:20260206T203000
DTEND;TZID=America/Los_Angeles:20260206T230000
DTSTAMP:20260420T175820
CREATED:20251230T064727Z
LAST-MODIFIED:20260124T094558Z
UID:929-1770409800-1770418800@bradrabuchin.net
SUMMARY:Brad Rabuchin/Joel Taylor/Carey Frank
DESCRIPTION:Brad Rabuchin -guitar\, Joel Taylor – drums\, Carey Frank -Hammond Organ.. Jazz and other stuff
URL:https://bradrabuchin.net/event/brad-rabuchin-joel-taylor-tba-bass/
LOCATION:1881\, 1881 East Washington Blvd\, Pasadena\, CA\, 91104\, United States
END:VEVENT
BEGIN:VEVENT
DTSTART;TZID=America/Los_Angeles:20260119T200000
DTEND;TZID=America/Los_Angeles:20260119T220000
DTSTAMP:20260420T175820
CREATED:20251123T021412Z
LAST-MODIFIED:20251230T071634Z
UID:899-1768852800-1768860000@bradrabuchin.net
SUMMARY:Brad Rabuchin\, Gary Fukushima & Chris Blondal - Music from the other side of the Fence
DESCRIPTION:Brad Rabuchin -guitar. electric sitar & effects. Gary Fukshima-keyboards and effects. Chris Blondal-drums & percussion. 8-10. digging into collective improvisation and responding to the musical moment. SunSpace is a cool spot that features music and art focusing on exploring new and creative angles.
URL:https://bradrabuchin.net/event/brad-rabuchin-gary-fukishima-chris-blondal-music-from-the-other-side-of-fence/
LOCATION:Sun Space\, 9683 Sunland Blvd\, Shadow Hills\, CA\, 91040\, United States
END:VEVENT
BEGIN:VEVENT
DTSTART;TZID=America/Los_Angeles:20260113T110000
DTEND;TZID=America/Los_Angeles:20260117T213000
DTSTAMP:20260420T175820
CREATED:20251201T104959Z
LAST-MODIFIED:20251201T105000Z
UID:911-1768302000-1768685400@bradrabuchin.net
SUMMARY:Down To The Crossroads Blues Workshop
DESCRIPTION:A 5 Day Blues Guitar and Bass Workshop offers a full immersion experience in the Blues for Blues Guitar and Bass players of all levels\, Featuring Teacher/Coaches Brad Rabuchin\, Hash Brown\, Franck Goldwasser\, Ralph Carter\, Jeff Maxwell and Monty Pollack. more info here: https://www.down2thecrossroads.com/index.html
URL:https://bradrabuchin.net/event/down-to-the-crossroads-blues-workshop/
LOCATION:Pierpont Inn\, 550 Sanjon Rd\, Ventura\, CA\, 93001\, United States
END:VEVENT
BEGIN:VEVENT
DTSTART;TZID=America/Los_Angeles:20260107T203000
DTEND;TZID=America/Los_Angeles:20260107T230000
DTSTAMP:20260420T175820
CREATED:20260101T200202Z
LAST-MODIFIED:20260101T200203Z
UID:947-1767817800-1767826800@bradrabuchin.net
SUMMARY:David Arney/Brad Rabuchin/Aarón Serfaty/Sherry Luchette - Benefit for Altadena Fire Relief
DESCRIPTION:David Arney-keys\, Brad Rabuchin-guitar\, Aarón Serfaty-drums\, Sherry Luchette-bass. Benefit for victims of the tragic Altadena fire that devastated so many homes and lives. Many still could use some help. This is a cool line up to catch with some of my favorite players.
URL:https://bradrabuchin.net/event/david-arney-brad-rabuchin-aaron-serfaty-sherry-luchette-benefit-for-altadena-fire-relief/
LOCATION:1881\, 1881 East Washington Blvd\, Pasadena\, CA\, 91104\, United States
END:VEVENT
BEGIN:VEVENT
DTSTART;TZID=America/Los_Angeles:20260102T190000
DTEND;TZID=America/Los_Angeles:20260102T213000
DTSTAMP:20260420T175820
CREATED:20251230T065700Z
LAST-MODIFIED:20251230T065701Z
UID:931-1767380400-1767389400@bradrabuchin.net
SUMMARY:Dennis Mitcheltree quarter w/ Brad Rabuchin
DESCRIPTION:Dennis Mitcheltree-sax\, Brad Rabuchin-guitar\, John Graves-bass & Mark Van Aken-drums   Original jazz\, comfortable spot\, no Cover
URL:https://bradrabuchin.net/event/dennis-mitcheltree-quarter-w-brad-rabuchin/
LOCATION:Industry Cafe & Jazz\, 6039 Washington Blvd\, Culover City\, California\, 90232\, United States
END:VEVENT
BEGIN:VEVENT
DTSTART;TZID=America/Los_Angeles:20251210T190000
DTEND;TZID=America/Los_Angeles:20251210T220000
DTSTAMP:20260420T175820
CREATED:20251202T064240Z
LAST-MODIFIED:20251202T064241Z
UID:917-1765393200-1765404000@bradrabuchin.net
SUMMARY:Ladd McIntosh Big Band
DESCRIPTION:Playing with the Ladd McIntosh Big Band. Ladd is a great arranger\, His tunes and arrangements have many cool and unexpected twists and turns.
URL:https://bradrabuchin.net/event/ladd-mcintosh-big-band/
LOCATION:Club 507\, 74527 Soruce St\,\, Newhall\, California\, United States
END:VEVENT
BEGIN:VEVENT
DTSTART;TZID=America/Los_Angeles:20251117T190000
DTEND;TZID=America/Los_Angeles:20251117T220000
DTSTAMP:20260420T175820
CREATED:20251106T075739Z
LAST-MODIFIED:20251106T075953Z
UID:889-1763406000-1763416800@bradrabuchin.net
SUMMARY:Bobby Breton Jazztet
DESCRIPTION:Grace Fae-vocals\, Brad Rabuchin-guitar\, Tim Landers-bass\, Bobby Breton-drums
URL:https://bradrabuchin.net/event/889/
LOCATION:Chase’s\, 2079 Bonita Ave\, La Verne\, California\, 91750\, United States
END:VEVENT
BEGIN:VEVENT
DTSTART;TZID=America/Los_Angeles:20251109T180000
DTEND;TZID=America/Los_Angeles:20251109T220000
DTSTAMP:20260420T175820
CREATED:20251106T080827Z
LAST-MODIFIED:20251106T081104Z
UID:896-1762711200-1762725600@bradrabuchin.net
SUMMARY:Brad Rabuchin
DESCRIPTION:Brad Rabuchin-guitar\, Scott Worthington-bass\, drums-TBA
URL:https://bradrabuchin.net/event/896/
LOCATION:Edwin Mills\, 22 Mills Place\, Pasadena\, California\, 91105\, United States
END:VEVENT
BEGIN:VEVENT
DTSTART;TZID=America/Los_Angeles:20251107T190000
DTEND;TZID=America/Los_Angeles:20251107T220000
DTSTAMP:20260420T175820
CREATED:20251106T080406Z
LAST-MODIFIED:20251106T080407Z
UID:894-1762542000-1762552800@bradrabuchin.net
SUMMARY:Brad Rabuchin trio
DESCRIPTION:Brad Rabuchin-guitar\, Sinclair Lott-drums\, bass TBA
URL:https://bradrabuchin.net/event/brad-rabuchin-trio-2/
LOCATION:Pips On LaBrea\, 1356 S\, LaBrea Ave\, Los Angeles\, California\, https://www.pipsonlabrea.com/\, United States
END:VEVENT
BEGIN:VEVENT
DTSTART;TZID=America/Los_Angeles:20251030T190000
DTEND;TZID=America/Los_Angeles:20251030T220000
DTSTAMP:20260420T175820
CREATED:20251027T082321Z
LAST-MODIFIED:20251027T082322Z
UID:884-1761850800-1761861600@bradrabuchin.net
SUMMARY:Jazz for Ghosts
DESCRIPTION:Amber Adams\, Nikko Masuyama & Grace Fae-vocals\, Brad Rabuchin-guitar\, Bobby Breton-drums & Wayne Wilentz-keys
URL:https://bradrabuchin.net/event/jazz-for-ghosts/
LOCATION:Magnolia Bistro\, 665 E Foothill Blvd\, Claremont\, California\, 91711\, United States
END:VEVENT
BEGIN:VEVENT
DTSTART;TZID=America/Los_Angeles:20251029T190000
DTEND;TZID=America/Los_Angeles:20251029T220000
DTSTAMP:20260420T175820
CREATED:20251027T080138Z
LAST-MODIFIED:20251027T080141Z
UID:879-1761764400-1761775200@bradrabuchin.net
SUMMARY:Robert Breton Jazztet
DESCRIPTION:Robert Breton-drums. Grace Fae-vocals\, Brad Rabuchin-guitar\, & Glen Chasman-keys
URL:https://bradrabuchin.net/event/robert-breton-jazztet/
LOCATION:Chase’s\, 2079 Bonita Ave.\, La Verne\, California\, 91750\, United States
END:VEVENT
BEGIN:VEVENT
DTSTART;TZID=America/Los_Angeles:20251019T180000
DTEND;TZID=America/Los_Angeles:20251019T220000
DTSTAMP:20260420T175820
CREATED:20251016T115803Z
LAST-MODIFIED:20251017T071034Z
UID:871-1760896800-1760911200@bradrabuchin.net
SUMMARY:Brad Rabuchin Trio
DESCRIPTION:Brad Rabuchin-guitar\, Adam Cohen-bass & Sandro Feliciano-drums   No Cover
URL:https://bradrabuchin.net/event/brad-rabuchin-trio/
LOCATION:Edwin Mills\, 22 Mills Place\, Pasadena\, California\, 91105\, United States
END:VEVENT
BEGIN:VEVENT
DTSTART;TZID=America/Los_Angeles:20251017T190000
DTEND;TZID=America/Los_Angeles:20251017T220000
DTSTAMP:20260420T175820
CREATED:20251016T014148Z
LAST-MODIFIED:20251016T114858Z
UID:858-1760727600-1760738400@bradrabuchin.net
SUMMARY:Pips - Jazz guitar trio
DESCRIPTION:Brad Rabuchin-guitar\, Ron Seffredini-bass & Randy Drake-drums
URL:https://bradrabuchin.net/event/pips-jazz-guitar-trio/
LOCATION:Pips On LaBrea\, 1356 S\, LaBrea Ave\, Los Angeles\, California\, https://www.pipsonlabrea.com/\, United States
END:VEVENT
END:VCALENDAR