BEGIN:VCALENDAR
VERSION:2.0
PRODID:-//brad rabuchin - ECPv6.15.13//NONSGML v1.0//EN
CALSCALE:GREGORIAN
METHOD:PUBLISH
X-WR-CALNAME:brad rabuchin
X-ORIGINAL-URL:https://bradrabuchin.net
X-WR-CALDESC:Events for brad rabuchin
REFRESH-INTERVAL;VALUE=DURATION:PT1H
X-Robots-Tag:noindex
X-PUBLISHED-TTL:PT1H
BEGIN:VTIMEZONE
TZID:America/Los_Angeles
BEGIN:DAYLIGHT
TZOFFSETFROM:-0800
TZOFFSETTO:-0700
TZNAME:PDT
DTSTART:20250309T100000
END:DAYLIGHT
BEGIN:STANDARD
TZOFFSETFROM:-0700
TZOFFSETTO:-0800
TZNAME:PST
DTSTART:20251102T090000
END:STANDARD
BEGIN:DAYLIGHT
TZOFFSETFROM:-0800
TZOFFSETTO:-0700
TZNAME:PDT
DTSTART:20260308T100000
END:DAYLIGHT
BEGIN:STANDARD
TZOFFSETFROM:-0700
TZOFFSETTO:-0800
TZNAME:PST
DTSTART:20261101T090000
END:STANDARD
BEGIN:DAYLIGHT
TZOFFSETFROM:-0800
TZOFFSETTO:-0700
TZNAME:PDT
DTSTART:20270314T100000
END:DAYLIGHT
BEGIN:STANDARD
TZOFFSETFROM:-0700
TZOFFSETTO:-0800
TZNAME:PST
DTSTART:20271107T090000
END:STANDARD
END:VTIMEZONE
BEGIN:VEVENT
DTSTART;TZID=America/Los_Angeles:20260102T190000
DTEND;TZID=America/Los_Angeles:20260102T213000
DTSTAMP:20260420T182249
CREATED:20251230T065700Z
LAST-MODIFIED:20251230T065701Z
UID:931-1767380400-1767389400@bradrabuchin.net
SUMMARY:Dennis Mitcheltree quarter w/ Brad Rabuchin
DESCRIPTION:Dennis Mitcheltree-sax\, Brad Rabuchin-guitar\, John Graves-bass & Mark Van Aken-drums   Original jazz\, comfortable spot\, no Cover
URL:https://bradrabuchin.net/event/dennis-mitcheltree-quarter-w-brad-rabuchin/
LOCATION:Industry Cafe & Jazz\, 6039 Washington Blvd\, Culover City\, California\, 90232\, United States
END:VEVENT
END:VCALENDAR